BEGIN:VCALENDAR
VERSION:2.0
PRODID:-//wp-events-plugin.com//7.2.3.1//EN
BEGIN:VEVENT
UID:23@urstrom.de
DTSTART;TZID=Europe/Berlin:20240528T193000
DTEND;TZID=Europe/Berlin:20240528T213000
DTSTAMP:20240510T202257Z
URL:https://www.urstrom.de/veranstaltungen/urstromclub-im-mai/
SUMMARY:UrStromClub im Mai
DESCRIPTION:Wir laden Sie ganz herzlich ein zum UrStromClub am Dienstag\, d
 em 28.5.\, 19.30 - 21.30 Uhr. Wir treffen uns im „Café Vivo" (Göttelma
 nnstraße 40\, 55131 Mainz) im Volkspark. Wir freuen uns auf den Austausch
  mit euch und Ihnen im geselligen Rahmen.\n\nBitte melden Sie sich unter a
 ktion@urstrom.de an\, da der Raum nur über eine begrenzte Zahl an Plätze
 n verfügt.\n\nDen Volkspark erreichen Sie gut mit öffentlichen Verkehrsm
 itteln\, z.B. mit der Buslinie 62\, Haltestellen Volkspark und Am Viktorst
 ift.\n\nFür alle\, die den UrStromClub noch nicht kennen:\nEs ist ein off
 enes Treffen für Mitglieder und Interessierte. Sie lernen die Menschen de
 r UrStrom eG näher kennen und erfahren mehr über erneuerbare Energien un
 d die Arbeit unserer BürgerEnergieGenossenschaft. Willkommen zu zwei Stun
 den geselligen Beisammenseins mit regem Austausch von Ideen\, Meinungen\, 
 Vorschlägen und Zielsetzungen.\n\nAlle Termine des UrStromClub im Jahr 20
 24 auf einen Blick finden Sie hier.
ATTACH;FMTTYPE=image/jpeg:https://www.urstrom.de/wordpress/wp-content/uplo
 ads/2022/08/urstromclub.jpg
LOCATION:„Café Vivo"\, Göttelmannstr. 40\, Mainz\, 55131\, Deutschland
X-APPLE-STRUCTURED-LOCATION;VALUE=URI;X-ADDRESS=Göttelmannstr. 40\, Mainz\
 , 55131\, Deutschland;X-APPLE-RADIUS=100;X-TITLE=„Café Vivo\":geo:0,0
END:VEVENT
BEGIN:VTIMEZONE
TZID:Europe/Berlin
X-LIC-LOCATION:Europe/Berlin
BEGIN:DAYLIGHT
DTSTART:20240331T030000
TZOFFSETFROM:+0100
TZOFFSETTO:+0200
TZNAME:CEST
END:DAYLIGHT
END:VTIMEZONE
END:VCALENDAR