BEGIN:VCALENDAR
VERSION:2.0
PRODID:-//wp-events-plugin.com//7.2.3.1//EN
BEGIN:VEVENT
UID:21@urstrom.de
DTSTART;TZID=Europe/Berlin:20240319T193000
DTEND;TZID=Europe/Berlin:20240319T213000
DTSTAMP:20240313T093220Z
URL:https://www.urstrom.de/veranstaltungen/urstromclub-im-maerz/
SUMMARY:UrStromClub im März
DESCRIPTION:Am kommenden Dienstag\, dem 19. März\, treffen wir uns um 19:3
 0 Uhr wieder im UrStromClub im Restaurant „Gautor“ in der Mainzer Alts
 tadt (direkt am Gautor gelegen).\n\nIm Februar hatten wir einen sehr gut b
 esuchten Club mit ca. 35 Teilnehmenden\, bei dem wir den Film unseres Tech
 nischen Vorstands Christopher Würzburger „So geht Klimaschutz“ gesehe
 n und besprochen haben. Beim Treffen im März soll es wieder ein lockerer 
 Kennenlern- und Austauschabend werden\, bei dem wir über den Stand unsere
 r Projekte berichten. Neuen Interessierten geben wir einen Einblick in uns
 ere Arbeit.\n\nAls Ausblick auf den UrStromClub im April: Am Donnerstag\, 
 dem 18. April\, werden Michael Hoitz und Wolfgang Friedrichs von unserer Z
 weigstelle BürgerEnergie Mainspitze einen Impulsvortrag über Batterien a
 llgemein und im Besonderen in Verbindung mit Photovoltaikanlagen halten. D
 a wir von der Größe des gebuchten Raumes im Restaurant Gautor begrenzt s
 ind\, werden wir (hoffentlich) im April in eine andere Lokalität wechseln
  können. Wir informieren Sie auf unserer Website sowie im nächsten Rundb
 rief.\n\nWir freuen uns auf zwei interessante Stunden mit euch und Ihnen. 
 Geben Sie gerne eine Rückmeldung an aktion@urstrom.de\, um die Personena
 nzahl abschätzen zu können.\n\nÜbrigens:\n\nZu erreichen ist das „Gau
 tor“ mit dem ÖPNV z.B. mit den Straßenbahn-Linien 50\, 52 und 53:\n\nw
 ww.gautor-mainz.info\n\nAlle Termine des UrStromClub im Jahr 2024 auf eine
 n Blick finden Sie hier.
ATTACH;FMTTYPE=image/jpeg:https://www.urstrom.de/wordpress/wp-content/uplo
 ads/2022/08/urstromclub.jpg
END:VEVENT
BEGIN:VTIMEZONE
TZID:Europe/Berlin
X-LIC-LOCATION:Europe/Berlin
BEGIN:STANDARD
DTSTART:20231029T020000
TZOFFSETFROM:+0200
TZOFFSETTO:+0100
TZNAME:CET
END:STANDARD
END:VTIMEZONE
END:VCALENDAR