BEGIN:VCALENDAR
VERSION:2.0
PRODID:-//wp-events-plugin.com//7.2.3.1//EN
BEGIN:VEVENT
UID:7@urstrom.de
DTSTART;TZID=Europe/Berlin:20230509T193000
DTEND;TZID=Europe/Berlin:20230509T213000
DTSTAMP:20230419T062633Z
URL:https://www.urstrom.de/veranstaltungen/urstromclub-6/
SUMMARY:UrStromClub
DESCRIPTION:Herzliche Einladung zum Vortrag mit dem Thema: \n\nVolker Quasc
 hnings „ENERGIE-REVOLUTION JETZT!“\n\nIm vergangenen Monat konnten ein
 ige UrStrom-Mitglieder Volker Quaschning live in Mainz erleben\, einen der
  weltweit führenden Experten für regenerative Energien. Viele kennen sei
 ne Bücher und seine Fakten basierten\, aufrüttelnden und auch Mut machen
 den Vorträge\, wie wir aus der Klimakrise herauskommen können. Er macht 
 klar: Die Zeit wird knapp. Eine Energiewende reicht nicht mehr\, es brauch
 t eine Energie-Revolution.\n\nUrStrom-Mitglied Klaus Grieger hat einige Ke
 rnaussagen des Vortrags in Mainz zusammengestellt und lädt Sie ein\, dar
 über im UrStromClub am 9. Mai zu diskutieren. Ist Quaschings geforderte E
 nergie-Revolution die Rettung? Ist sie machbar\, empfehlenswert\, zielfüh
 rend\, ausreichend? Wie stehen wir als Bürgerinnen und Bürger und als Mi
 tglieder der UrStrom eG dazu?\n\nSchauen Sie sich Volker Quaschnings „Fa
 hrplan“ zum Ausstieg aus der Klimakrise an\, online nachzuverfolgen unte
 r https://www.youtube.com/watch?v=XkjMSEv5tQg.\n\nDiskutieren Sie darüber
  mit Klaus Grieger am Dienstag\, dem 9. Mai\, um 19.30 Uhr. Wir treffen un
 s dazu wie gewohnt im Gasthaus „Zum Bürgerhof“ in Mainz-Gonsenheim\, 
 Breite Straße 3a.\n\nDie Gaststätte erreichen Sie mit dem ÖPNV z.B. mit
  den Straßenbahn-Linien 50 und 51\, Haltestelle „Nerotalstraße“\, od
 er auch mit den Bus-Linien 68 und 79\, Haltestelle „Kapellenstraße/Gesu
 ndheitszentrum“ bzw. „Nerotalstraße“.\n\nHerzlich willkommen!
ATTACH;FMTTYPE=image/jpeg:https://www.urstrom.de/wordpress/wp-content/uplo
 ads/2022/10/urstrom-club-transparent-e1672782130997.png
END:VEVENT
BEGIN:VTIMEZONE
TZID:Europe/Berlin
X-LIC-LOCATION:Europe/Berlin
BEGIN:DAYLIGHT
DTSTART:20230326T030000
TZOFFSETFROM:+0100
TZOFFSETTO:+0200
TZNAME:CEST
END:DAYLIGHT
END:VTIMEZONE
END:VCALENDAR